Workbook

Sheet Supuestos del modelo
A1: PLAN FINANCIERO A 5 AÑOS
A3: Nombre de la empresa
A5: INGRESOS PROYECTADOS
B6: Unidades vendidas al año | C6: Precio promedio por unidad | D6: Ingreso anual por producto
A7: Producto 1 | B7: 250 | C7: 125 | D7: =IF(OR(ISBLANK(B7),ISBLANK(C7)),0,B7*C7) -> 31250
A8: Producto 2 | B8: 430 | C8: 100 | D8: =IF(OR(ISBLANK(B8),ISBLANK(C8)),0,B8*C8) -> 43000
A9: Producto 3 | B9: 210 | C9: 65 | D9: =IF(OR(ISBLANK(B9),ISBLANK(C9)),0,B9*C9) -> 13650
A10: Producto 4 | B10: 540 | C10: 25 | D10: =IF(OR(ISBLANK(B10),ISBLANK(C10)),0,B10*C10) -> 13500
A12: TOTAL DE INGRESOS PROYECTADOS | D12: =SUM(D7:D10) -> 101400
A14: COSTO DE LO VENDIDO
B15: Margen esperado | D15: Costo anual de lo vendido
A16: =A7 -> Product 1 | B16: 0.3 | D16: =IF(ISBLANK(B16),0,D7*B16) -> 9375
A17: =A8 -> Product 2 | B17: 0.25 | D17: =IF(ISBLANK(B17),0,D8*B17) -> 10750
A18: =A9 -> Product 3 | B18: 0.25 | D18: =IF(ISBLANK(B18),0,D9*B18) -> 3412.5
A19: =A10 -> Product 4 | B19: 0.3 | D19: =IF(ISBLANK(B19),0,D10*B19) -> 4050
A21: TOTAL DEL COSTO DE LO VENDIDO | D21: =SUM(D16:D19) -> 27587.5
A23: MANTENIMIENTO, REPARACIÓN Y REVISIÓN ANUAL
A25: Factor (%) sobre el equipo | B25: 0.15
A28: DEPRECIACIÓN DE ACTIVOS
A30: Número de años | B30: 5
A33: IMPUESTOS
A35: Tasa anual de impuestos | B35: 0.3
A38: INFLACIÓN
A40: Tasa anual de inflación | B40: 0.02
A43: AUMENTO DE PRECIO DE LOS PRODUCTOS
A45: Aumento anual de precio | B45: 0.02
A48: FINANCIAMIENTO
A50: Monto del préstamo | B50: 50000
A51: Tasa de interés anual | B51: 0.05
A52: Plazo del préstamo (meses) | B52: 60
A53: Tasa mensual | B53: =(1+'Supuestos del modelo'!B51)^(1/12)-1 -> 0.0040741238
A54: Cuota | B54: =IF(ISBLANK(B52),0,-PMT('Supuestos del modelo'!B53,'Supuestos del modelo'!B52,'Supuestos del modelo'!B50)) -> 941.01992
A55: Total a pagar | B55: =IF(ISBLANK(B52),0,B52*B54) -> 56461.195

Sheet Pérdidas y ganancias
A1: PROYECCIÓN DE PÉRDIDAS Y GANANCIAS
A3: Nombre de la empresa
A5: SUPUESTOS DE PÉRDIDAS Y GANANCIAS
B6: Año 1 | C6: Año 2 | D6: Año 3 | E6: Año 4 | F6: Año 5
A7: Aumento anual acumulado de precio (ingresos) | B7: =IF(ISBLANK('Supuestos del modelo'!$B$45),0,(COLUMN(B7)-COLUMN($B$7))*'Supuestos del modelo'!$B$45) -> 0 | C7: =IF(ISBLANK('Supuestos del modelo'!$B$45),0,(COLUMN(C7)-COLUMN($B$7))*'Supuestos del modelo'!$B$45) -> 0.02 | D7: =IF(ISBLANK('Supuestos del modelo'!$B$45),0,(COLUMN(D7)-COLUMN($B$7))*'Supuestos del modelo'!$B$45) -> 0.04 | E7: =IF(ISBLANK('Supuestos del modelo'!$B$45),0,(COLUMN(E7)-COLUMN($B$7))*'Supuestos del modelo'!$B$45) -> 0.06 | F7: =IF(ISBLANK('Supuestos del modelo'!$B$45),0,(COLUMN(F7)-COLUMN($B$7))*'Supuestos del modelo'!$B$45) -> 0.08
A8: Aumento anual acumulado por inflación (gastos) | B8: =IF(ISBLANK('Supuestos del modelo'!$B$40),0,(COLUMN(B8)-COLUMN($B$8))*'Supuestos del modelo'!$B$40) -> 0 | C8: =IF(ISBLANK('Supuestos del modelo'!$B$40),0,(COLUMN(C8)-COLUMN($B$8))*'Supuestos del modelo'!$B$40) -> 0.02 | D8: =IF(ISBLANK('Supuestos del modelo'!$B$40),0,(COLUMN(D8)-COLUMN($B$8))*'Supuestos del modelo'!$B$40) -> 0.04 | E8: =IF(ISBLANK('Supuestos del modelo'!$B$40),0,(COLUMN(E8)-COLUMN($B$8))*'Supuestos del modelo'!$B$40) -> 0.06 | F8: =IF(ISBLANK('Supuestos del modelo'!$B$40),0,(COLUMN(F8)-COLUMN($B$8))*'Supuestos del modelo'!$B$40) -> 0.08
A11: INGRESOS
B12: Año 1 | C12: Año 2 | D12: Año 3 | E12: Año 4 | F12: Año 5
A13: Ventas
A15: ='Supuestos del modelo'!A7 -> Product 1 | B15: ='Supuestos del modelo'!D7 -> 31250 | C15: =B15*(1+$C$7) -> 31875 | D15: =C15*(1+$D$7) -> 33150 | E15: =D15*(1+$E$7) -> 35139 | F15: =E15*(1+$F$7) -> 37950.12
A16: ='Supuestos del modelo'!A8 -> Product 2 | B16: ='Supuestos del modelo'!D8 -> 43000 | C16: =B16*(1+$C$7) -> 43860 | D16: =C16*(1+$D$7) -> 45614.4 | E16: =D16*(1+$E$7) -> 48351.264 | F16: =E16*(1+$F$7) -> 52219.365
A17: ='Supuestos del modelo'!A9 -> Product 3 | B17: ='Supuestos del modelo'!D9 -> 13650 | C17: =B17*(1+$C$7) -> 13923 | D17: =C17*(1+$D$7) -> 14479.92 | E17: =D17*(1+$E$7) -> 15348.715 | F17: =E17*(1+$F$7) -> 16576.612
A18: ='Supuestos del modelo'!A10 -> Product 4 | B18: ='Supuestos del modelo'!D10 -> 13500 | C18: =B18*(1+$C$7) -> 13770 | D18: =C18*(1+$D$7) -> 14320.8 | E18: =D18*(1+$E$7) -> 15180.048 | F18: =E18*(1+$F$7) -> 16394.452
A20: Total de ventas | B20: =SUM(B15:B18) -> 101400 | C20: =SUM(C15:C18) -> 103428 | D20: =SUM(D15:D18) -> 107565.12 | E20: =SUM(E15:E18) -> 114019.03 | F20: =SUM(F15:F18) -> 123140.55
A22: Costo de ventas
A24: ='Supuestos del modelo'!A16 -> Product 1 | B24: ='Supuestos del modelo'!D16 -> 9375 | C24: =B24*(1+$C$8) -> 9562.5 | D24: =C24*(1+$D$8) -> 9945 | E24: =D24*(1+$E$8) -> 10541.7 | F24: =E24*(1+$F$8) -> 11385.036
A25: ='Supuestos del modelo'!A17 -> Product 2 | B25: ='Supuestos del modelo'!D17 -> 10750 | C25: =B25*(1+$C$8) -> 10965 | D25: =C25*(1+$D$8) -> 11403.6 | E25: =D25*(1+$E$8) -> 12087.816 | F25: =E25*(1+$F$8) -> 13054.841
A26: ='Supuestos del modelo'!A18 -> Product 3 | B26: ='Supuestos del modelo'!D18 -> 3412.5 | C26: =B26*(1+$C$8) -> 3480.75 | D26: =C26*(1+$D$8) -> 3619.98 | E26: =D26*(1+$E$8) -> 3837.1788 | F26: =E26*(1+$F$8) -> 4144.1531
A27: ='Supuestos del modelo'!A19 -> Product 4 | B27: ='Supuestos del modelo'!D19 -> 4050 | C27: =B27*(1+$C$8) -> 4131 | D27: =C27*(1+$D$8) -> 4296.24 | E27: =D27*(1+$E$8) -> 4554.0144 | F27: =E27*(1+$F$8) -> 4918.3356
A29: Costo de lo vendido | B29: ='Supuestos del modelo'!D21 -> 27587.5 | C29: =B29*(1+$C$8) -> 28139.25 | D29: =C29*(1+$D$8) -> 29264.82 | E29: =D29*(1+$E$8) -> 31020.709 | F29: =E29*(1+$F$8) -> 33502.366
A31: Utilidad bruta | B31: =B20-B29 -> 73812.5 | C31: =C20-C29 -> 75288.75 | D31: =D20-D29 -> 78300.3 | E31: =E20-E29 -> 82998.318 | F31: =F20-F29 -> 89638.183
A33: Ingresos no operativos
A35: Alquileres | B35: 0 | C35: 0 | D35: 0 | E35: 0 | F35: 0
A36: Ingresos por intereses | B36: 0 | C36: 0 | D36: 0 | E36: 0 | F36: 0
A37: Pérdida (ganancia) por venta de activos | B37: 0 | C37: 0 | D37: 1000 | E37: 0 | F37: 0
A38: Otros ingresos (especifica) | B38: 0 | C38: 0 | D38: 0 | E38: 0 | F38: 0
A40: Total de ingresos no operativos | B40: =SUM(B35:B38) -> 0 | C40: =SUM(C35:C38) -> 0 | D40: =SUM(D35:D38) -> 1000 | E40: =SUM(E35:E38) -> 0 | F40: =SUM(F35:F38) -> 0
A42: TOTAL DE INGRESOS | B42: =B31+B40 -> 73812.5 | C42: =C31+C40 -> 75288.75 | D42: =D31+D40 -> 79300.3 | E42: =E31+E40 -> 82998.318 | F42: =F31+F40 -> 89638.183
A44: GASTOS
A46: Gastos operativos
A48: Ventas y mercadeo | B48: 15000 | C48: =B48*(1+C$8) -> 15300 | D48: =C48*(1+D$8) -> 15912 | E48: =D48*(1+E$8) -> 16866.72 | F48: =E48*(1+F$8) -> 18216.058
A49: Depreciación | B49: =SUM('Balance general'!B20,'Balance general'!B22,'Balance general'!B23)/'Supuestos del modelo'!$B$30 -> 6000 | C49: =SUM('Balance general'!C20,'Balance general'!C21,'Balance general'!C22)/'Supuestos del modelo'!$B$30*(1+C$8) -> 6120 | D49: =SUM('Balance general'!D20,'Balance general'!D21,'Balance general'!D22)/'Supuestos del modelo'!$B$30*(1+D$8) -> 6240 | E49: =SUM('Balance general'!E20,'Balance general'!E21,'Balance general'!E22)/'Supuestos del modelo'!$B$30*(1+E$8) -> 6360 | F49: =SUM('Balance general'!F20,'Balance general'!F21,'Balance general'!F22)/'Supuestos del modelo'!$B$30*(1+F$8) -> 6480
A50: Seguros | B50: 7500 | C50: =B50*(1+C$8) -> 7650 | D50: =C50*(1+D$8) -> 7956 | E50: =D50*(1+E$8) -> 8433.36 | F50: =E50*(1+F$8) -> 9108.0288
A51: Planilla y cargas sociales | B51: 21000 | C51: =B51*(1+C$8) -> 21420 | D51: =C51*(1+D$8) -> 22276.8 | E51: =D51*(1+E$8) -> 23613.408 | F51: =E51*(1+F$8) -> 25502.481
A52: Impuestos sobre la propiedad | B52: 2500 | C52: =B52*(1+C$8) -> 2550 | D52: =C52*(1+D$8) -> 2652 | E52: =D52*(1+E$8) -> 2811.12 | F52: =E52*(1+F$8) -> 3036.0096
A53: Mantenimiento, reparación y revisión | B53: ='Balance general'!B23*'Supuestos del modelo'!$B$25 -> 1500 | C53: =('Balance general'!C23*'Supuestos del modelo'!$B$25)*(1+C$8) -> 1530 | D53: =('Balance general'!D23*'Supuestos del modelo'!$B$25)*(1+D$8) -> 1560 | E53: =('Balance general'!E23*'Supuestos del modelo'!$B$25)*(1+E$8) -> 1590 | F53: =('Balance general'!F23*'Supuestos del modelo'!$B$25)*(1+F$8) -> 1620
A54: Servicios públicos | B54: 5000 | C54: =B54*(1+C$8) -> 5100 | D54: =C54*(1+D$8) -> 5304 | E54: =D54*(1+E$8) -> 5622.24 | F54: =E54*(1+F$8) -> 6072.0192
A55: Gastos administrativos | B55: 300 | C55: =B55*(1+C$8) -> 306 | D55: =C55*(1+D$8) -> 318.24 | E55: =D55*(1+E$8) -> 337.3344 | F55: =E55*(1+F$8) -> 364.32115
A56: Intereses de la deuda a largo plazo | B56: =SUM('Calculadora del préstamo'!E9:E20) -> 2243.4991 | C56: =SUM('Calculadora del préstamo'!E21:E32) -> 1791.0621 | D56: =SUM('Calculadora del préstamo'!E33:E44) -> 1316.0033 | E56: =SUM('Calculadora del préstamo'!E45:E56) -> 817.19149 | F56: =SUM('Calculadora del préstamo'!E57:E68) -> 293.43911
A57: Otros | B57: 1000 | C57: =B57*(1+C$8) -> 1020 | D57: =C57*(1+D$8) -> 1060.8 | E57: =D57*(1+E$8) -> 1124.448 | F57: =E57*(1+F$8) -> 1214.4038
...

Sheet Balance general
A1: PROYECCIÓN DEL BALANCE GENERAL
A3: Nombre de la empresa
A5: ACTIVOS
A7: Activos corrientes | B7: Saldo inicial | C7: Año 1 | D7: Año 2 | E7: Año 3 | F7: Año 4 | G7: Año 5
A9: Efectivo e inversiones de corto plazo | B9: 50000 | C9: ='Flujo de caja'!B41 -> 155189.56 | D9: ='Flujo de caja'!C41 -> 110559.57 | E9: ='Flujo de caja'!D41 -> 141116.45 | F9: ='Flujo de caja'!E41 -> 197797.15 | G9: ='Flujo de caja'!F41 -> 130690.35
A10: Cuentas por cobrar | B10: 3000 | C10: =B10 -> 3000 | D10: =C10 -> 3000 | E10: =D10 -> 3000 | F10: =E10 -> 3000 | G10: =F10 -> 3000
A11: Inventario total | B11: 25000 | C11: =B11 -> 25000 | D11: =C11 -> 25000 | E11: =D11 -> 25000 | F11: =E11 -> 25000 | G11: =F11 -> 25000
A12: Gastos pagados por adelantado | B12: 0 | C12: =B12 -> 0 | D12: =C12 -> 0 | E12: =D12 -> 0 | F12: =E12 -> 0 | G12: =F12 -> 0
A13: Impuesto diferido | B13: 0 | C13: =B13 -> 0 | D13: =C13 -> 0 | E13: =D13 -> 0 | F13: =E13 -> 0 | G13: =F13 -> 0
A14: Otros activos corrientes | B14: 5000 | C14: =+B14 -> 5000 | D14: =+C14 -> 5000 | E14: =+D14 -> 5000 | F14: =+E14 -> 5000 | G14: =+F14 -> 5000
A16: Total de activos corrientes | B16: =SUM(B9:B14) -> 83000 | C16: =SUM(C9:C14) -> 188189.56 | D16: =SUM(D9:D14) -> 143559.57 | E16: =SUM(E9:E14) -> 174116.45 | F16: =SUM(F9:F14) -> 230797.15 | G16: =SUM(G9:G14) -> 163690.35
A18: Propiedad y equipo | B18: Saldo inicial | C18: Año 1 | D18: Año 2 | E18: Año 3 | F18: Año 4 | G18: Año 5
A20: Edificios | B20: 20000 | C20: =B20 -> 20000 | D20: =C20 -> 20000 | E20: =D20 -> 20000 | F20: =E20 -> 20000 | G20: =F20 -> 20000
A21: Terrenos | B21: 10000 | C21: =B21 -> 10000 | D21: =C21 -> 10000 | E21: =D21 -> 10000 | F21: =E21 -> 10000 | G21: =F21 -> 10000
A22: Mejoras de capital | B22: 0 | C22: =B22 -> 0 | D22: =C22 -> 0 | E22: =D22 -> 0 | F22: =E22 -> 0 | G22: =F22 -> 0
A23: Maquinaria y equipo | B23: 10000 | C23: =B23 -> 10000 | D23: =C23 -> 10000 | E23: =D23 -> 10000 | F23: =E23 -> 10000 | G23: =F23 -> 10000
A24: Menos depreciación acumulada | C24: =B24+'Pérdidas y ganancias'!B49 -> 6000 | D24: =C24+'Pérdidas y ganancias'!C49 -> 12120 | E24: =D24+'Pérdidas y ganancias'!D49 -> 18360 | F24: =E24+'Pérdidas y ganancias'!E49 -> 24720 | G24: =F24+'Pérdidas y ganancias'!F49 -> 31200
A26: Total de propiedad y equipo | B26: =SUM(B20:B23)-B24 -> 40000 | C26: =SUM(C20:C23)-C24 -> 34000 | D26: =SUM(D20:D23)-D24 -> 27880 | E26: =SUM(E20:E23)-E24 -> 21640 | F26: =SUM(F20:F23)-F24 -> 15280 | G26: =SUM(G20:G23)-G24 -> 8800
A28: Otros activos | B28: Saldo inicial | C28: Año 1 | D28: Año 2 | E28: Año 3 | F28: Año 4 | G28: Año 5
A30: Plusvalía | B30: 0 | C30: =B30 -> 0 | D30: =C30 -> 0 | E30: =D30 -> 0 | F30: =E30 -> 0 | G30: =F30 -> 0
A31: Impuesto diferido | B31: 0 | C31: =B31 -> 0 | D31: =C31 -> 0 | E31: =D31 -> 0 | F31: =E31 -> 0 | G31: =F31 -> 0
A32: Inversiones de largo plazo | B32: 0 | C32: =B32 -> 0 | D32: =C32 -> 0 | E32: =D32 -> 0 | F32: =E32 -> 0 | G32: =F32 -> 0
A33: Depósitos | B33: 0 | C33: =B33 -> 0 | D33: =C33 -> 0 | E33: =D33 -> 0 | F33: =E33 -> 0 | G33: =F33 -> 0
A34: Otros activos de largo plazo | B34: 0 | C34: =B34 -> 0 | D34: =C34 -> 0 | E34: =D34 -> 0 | F34: =E34 -> 0 | G34: =F34 -> 0
A36: Total de otros activos | B36: =SUM(B30:B34) -> 0 | C36: =SUM(C30:C34) -> 0 | D36: =SUM(D30:D34) -> 0 | E36: =SUM(E30:E34) -> 0 | F36: =SUM(F30:F34) -> 0 | G36: =SUM(G30:G34) -> 0
A38: TOTAL DE ACTIVOS | B38: =B16+B26+B36 -> 123000 | C38: =C16+C26+C36 -> 222189.56 | D38: =D16+D26+D36 -> 171439.57 | E38: =E16+E26+E36 -> 195756.45 | F38: =F16+F26+F36 -> 246077.15 | G38: =G16+G26+G36 -> 172490.35
A40: PASIVOS
A42: Pasivos corrientes | B42: Saldo inicial | C42: Año 1 | D42: Año 2 | E42: Año 3 | F42: Año 4 | G42: Año 5
A44: Cuentas por pagar | B44: 2000 | C44: =B44 -> 2000 | D44: =C44 -> 2000 | E44: =D44 -> 2000 | F44: =E44 -> 2000 | G44: =F44 -> 2000
A45: Gastos acumulados | B45: 0 | C45: =B45 -> 0 | D45: =C45 -> 0 | E45: =D45 -> 0 | F45: =E45 -> 0 | G45: =F45 -> 0
A46: Documentos por pagar / deuda de corto plazo | B46: 0 | C46: =B46 -> 0 | D46: =C46 -> 0 | E46: =D46 -> 0 | F46: =E46 -> 0 | G46: =F46 -> 0
A47: Arrendamientos financieros | B47: 0 | C47: =B47 -> 0 | D47: =C47 -> 0 | E47: =D47 -> 0 | F47: =E47 -> 0 | G47: =F47 -> 0
A48: Otros pasivos corrientes | B48: 100 | C48: =+B48 -> 100 | D48: =+C48 -> 100 | E48: =+D48 -> 100 | F48: =+E48 -> 100 | G48: =+F48 -> 100
A50: Total de pasivos corrientes | B50: =SUM(B44:B48) -> 2100 | C50: =SUM(C44:C48) -> 2100 | D50: =SUM(D44:D48) -> 2100 | E50: =SUM(E44:E48) -> 2100 | F50: =SUM(F44:F48) -> 2100 | G50: =SUM(G44:G48) -> 2100
A52: Deuda | B52: Saldo inicial | C52: Año 1 | D52: Año 2 | E52: Año 3 | F52: Año 4 | G52: Año 5
A54: Deuda / préstamo de largo plazo | B54: =IF('Calculadora del préstamo'!B8="",0,'Calculadora del préstamo'!B8) -> 50000 | C54: =IF('Calculadora del préstamo'!B21="",0,'Calculadora del préstamo'!B21) -> 40951.26 | D54: =IF('Calculadora del préstamo'!B33="",0,'Calculadora del préstamo'!B33) -> 31450.083 | E54: =IF('Calculadora del préstamo'!B45="",0,'Calculadora del préstamo'!B45) -> 21473.847 | F54: =IF('Calculadora del préstamo'!B57="",0,'Calculadora del préstamo'!B57) -> 10998.8 | G54: =IF('Calculadora del préstamo'!B69="",0,'Calculadora del préstamo'!B69) -> 0
A55: Otra deuda de largo plazo | B55: 100000 | C55: 200000 | D55: 150000 | E55: 175000 | F55: 225000 | G55: 150000
A57: Total de deuda | B57: =B50+B54+B55 -> 152100 | C57: =C50+C54+C55 -> 243051.26 | D57: =D50+D54+D55 -> 183550.08 | E57: =E50+E54+E55 -> 198573.85 | F57: =F50+F54+F55 -> 238098.8 | G57: =G50+G54+G55 -> 152100
A59: Otros pasivos | B59: Saldo inicial | C59: Año 1 | D59: Año 2 | E59: Año 3 | F59: Año 4 | G59: Año 5
A61: Otros pasivos (especifica) | B61: 0 | C61: =B61 -> 0 | D61: =C61 -> 0 | E61: =D61 -> 0 | F61: =E61 -> 0 | G61: =F61 -> 0
...

Sheet Flujo de caja
A1: PROYECCIÓN DEL FLUJO DE CAJA
A3: Nombre de la empresa
A5: Actividades de operación | B5: Año 1 | C5: Año 2 | D5: Año 3 | E5: Año 4 | F5: Año 5 | G5: Total
A7: Utilidad neta | B7: ='Pérdidas y ganancias'!B77 -> 8238.3006 | C7: ='Pérdidas y ganancias'!C77 -> 8751.1815 | D7: ='Pérdidas y ganancias'!D77 -> 10293.12 | E7: ='Pérdidas y ganancias'!E77 -> 10795.747 | F7: ='Pérdidas y ganancias'!F77 -> 12411.996 | G7: =SUM(B7:F7) -> 50490.346
A8: Depreciación | B8: ='Pérdidas y ganancias'!B49 -> 6000 | C8: ='Pérdidas y ganancias'!C49 -> 6120 | D8: ='Pérdidas y ganancias'!D49 -> 6240 | E8: ='Pérdidas y ganancias'!E49 -> 6360 | F8: ='Pérdidas y ganancias'!F49 -> 6480 | G8: =SUM(B8:F8) -> 31200
A9: Cuentas por cobrar | B9: ='Balance general'!B10-'Balance general'!C10 -> 0 | C9: ='Balance general'!C10-'Balance general'!D10 -> 0 | D9: ='Balance general'!D10-'Balance general'!E10 -> 0 | E9: ='Balance general'!E10-'Balance general'!F10 -> 0 | F9: ='Balance general'!F10-'Balance general'!G10 -> 0 | G9: =SUM(B9:F9) -> 0
A10: Inventarios | B10: ='Balance general'!B11-'Balance general'!C11 -> 0 | C10: ='Balance general'!C11-'Balance general'!D11 -> 0 | D10: ='Balance general'!D11-'Balance general'!E11 -> 0 | E10: ='Balance general'!E11-'Balance general'!F11 -> 0 | F10: ='Balance general'!F11-'Balance general'!G11 -> 0 | G10: =SUM(B10:F10) -> 0
A11: Cuentas por pagar | B11: ='Balance general'!B44-'Balance general'!C44 -> 0 | C11: ='Balance general'!C44-'Balance general'!D44 -> 0 | D11: ='Balance general'!D44-'Balance general'!E44 -> 0 | E11: ='Balance general'!E44-'Balance general'!F44 -> 0 | F11: ='Balance general'!F44-'Balance general'!G44 -> 0 | G11: =SUM(B11:F11) -> 0
A12: Amortización | B12: 0 | C12: =B12 -> 0 | D12: =C12 -> 0 | E12: =D12 -> 0 | F12: =E12 -> 0 | G12: =SUM(B12:F12) -> 0
A13: Otros pasivos | B13: 0 | C13: =B13 -> 0 | D13: =C13 -> 0 | E13: =D13 -> 0 | F13: =E13 -> 0 | G13: =SUM(B13:F13) -> 0
A14: Otras partidas de flujo operativo | B14: 0 | C14: =B14 -> 0 | D14: =C14 -> 0 | E14: =D14 -> 0 | F14: =E14 -> 0 | G14: =SUM(B14:F14) -> 0
A16: Total de actividades de operación | B16: =SUM(B7:B14) -> 14238.301 | C16: =SUM(C7:C14) -> 14871.182 | D16: =SUM(D7:D14) -> 16533.12 | E16: =SUM(E7:E14) -> 17155.747 | F16: =SUM(F7:F14) -> 18891.996 | G16: =SUM(B16:F16) -> 81690.346
A18: Actividades de inversión | B18: Año 1 | C18: Año 2 | D18: Año 3 | E18: Año 4 | F18: Año 5 | G18: Total
A20: Inversiones de capital | B20: =-1 * MAX(0,SUM('Balance general'!C20:C23)-SUM('Balance general'!B20:B23)) -> 0 | C20: =-1 * MAX(0,SUM('Balance general'!D20:D23)-SUM('Balance general'!C20:C23)) -> 0 | D20: =-1 * MAX(0,SUM('Balance general'!E20:E23)-SUM('Balance general'!D20:D23)) -> 0 | E20: =-1 * MAX(0,SUM('Balance general'!F20:F23)-SUM('Balance general'!E20:E23)) -> 0 | F20: =-1 * MAX(0,SUM('Balance general'!G20:G23)-SUM('Balance general'!F20:F23)) -> 0 | G20: =SUM(B20:F20) -> 0
A21: Compra de negocios | B21: 0 | C21: 0 | E21: 0 | F21: 0 | G21: =SUM(B21:F21) -> 0
A22: Venta de activos fijos | B22: =(-1*MIN(0,SUM('Balance general'!C20:C23)-SUM('Balance general'!B20:B23))-'Pérdidas y ganancias'!B37) -> 0 | C22: =(-1*MIN(0,SUM('Balance general'!D20:D23)-SUM('Balance general'!C20:C23))-'Pérdidas y ganancias'!C37) -> 0 | D22: =(-1*MIN(0,SUM('Balance general'!E20:E23)-SUM('Balance general'!D20:D23))-'Pérdidas y ganancias'!D37) -> -1000 | E22: =(-1*MIN(0,SUM('Balance general'!F20:F23)-SUM('Balance general'!E20:E23))-'Pérdidas y ganancias'!E37) -> 0 | F22: =(-1*MIN(0,SUM('Balance general'!G20:G23)-SUM('Balance general'!F20:F23))-'Pérdidas y ganancias'!F37) -> 0 | G22: =SUM(B22:F22) -> -1000
A23: Otras partidas de flujo de inversión | B23: 0 | C23: 0 | D23: 0 | E23: 0 | F23: 0 | G23: =SUM(B23:F23) -> 0
A25: Total de actividades de inversión | B25: =SUM(B20:B23) -> 0 | C25: =SUM(C20:C23) -> 0 | D25: =SUM(D20:D23) -> -1000 | E25: =SUM(E20:E23) -> 0 | F25: =SUM(F20:F23) -> 0 | G25: =SUM(B25:F25) -> -1000
A27: Actividades de financiamiento | B27: Año 1 | C27: Año 2 | D27: Año 3 | E27: Año 4 | F27: Año 5 | G27: Total
A29: Deuda / financiamiento de largo plazo | B29: =SUM('Balance general'!C54:C55)-SUM('Balance general'!B54:B55) -> 90951.26 | C29: =SUM('Balance general'!D54:D55)-SUM('Balance general'!C54:C55) -> -59501.177 | D29: =SUM('Balance general'!E54:E55)-SUM('Balance general'!D54:D55) -> 15023.764 | E29: =SUM('Balance general'!F54:F55)-SUM('Balance general'!E54:E55) -> 39524.952 | F29: =SUM('Balance general'!G54:G55)-SUM('Balance general'!F54:F55) -> -85998.8 | G29: =SUM(B29:F29) -> 0
A30: Acciones preferentes | B30: 0 | C30: =B30 -> 0 | D30: =C30 -> 0 | E30: =D30 -> 0 | F30: =E30 -> 0 | G30: =SUM(B30:F30) -> 0
A31: Dividendos pagados | B31: 0 | C31: =B31 -> 0 | D31: =C31 -> 0 | E31: =D31 -> 0 | F31: =E31 -> 0 | G31: =SUM(B31:F31) -> 0
A32: Acciones comunes | B32: 0 | C32: =B32 -> 0 | D32: =C32 -> 0 | E32: =D32 -> 0 | F32: =E32 -> 0 | G32: =SUM(B32:F32) -> 0
A33: Otras partidas de flujo de financiamiento | B33: 0 | C33: =B33 -> 0 | D33: =C33 -> 0 | E33: =D33 -> 0 | F33: =E33 -> 0 | G33: =SUM(B33:F33) -> 0
A35: Total de actividades de financiamiento | B35: =SUM(B29:B33) -> 90951.26 | C35: =SUM(C29:C33) -> -59501.177 | D35: =SUM(D29:D33) -> 15023.764 | E35: =SUM(E29:E33) -> 39524.952 | F35: =SUM(F29:F33) -> -85998.8 | G35: =SUM(B35:F35) -> 0
A37: Flujo de caja acumulado | B37: =B35+B25+B16 -> 105189.56 | C37: =C35+C25+C16 -> -44629.995 | D37: =D35+D25+D16 -> 30556.884 | E37: =E35+E25+E16 -> 56680.7 | F37: =F35+F25+F16 -> -67106.803 | G37: =SUM(B37:F37) -> 80690.346
A39: Saldo inicial de caja | B39: ='Balance general'!B9 -> 50000 | C39: =B41 -> 155189.56 | D39: =C41 -> 110559.57 | E39: =D41 -> 141116.45 | F39: =E41 -> 197797.15
A41: Saldo final de caja | B41: =B39+B37 -> 155189.56 | C41: =C39+C37 -> 110559.57 | D41: =D39+D37 -> 141116.45 | E41: =E39+E37 -> 197797.15 | F41: =F39+F37 -> 130690.35

Sheet Calculadora del préstamo
A1: TABLA DE AMORTIZACIÓN DEL PRÉSTAMO
A3: Nombre de la empresa
A5: NOTA: la tabla de amortización calcula hasta 30 años (360 meses).
A7: MES | B7: SALDO | C7: CUOTA PROGRAMADA | D7: CAPITAL | E7: INTERÉS
B8: ='Supuestos del modelo'!$B$50 -> 50000
A9: =IF(A8>='Supuestos del modelo'!$B$52,"",A8+1) -> 1 | B9: =IF(A9="","",B8-D8) -> 50000 | C9: =IF(A9="","",-PMT('Supuestos del modelo'!$B$53,'Supuestos del modelo'!$B$52,'Supuestos del modelo'!$B$50)) -> 941.01992 | D9: =IF(A9="","",C9-E9) -> 737.31373 | E9: =IF(A9="","",'Supuestos del modelo'!$B$53*B9) -> 203.70619
A10: =IF(A9>='Supuestos del modelo'!$B$52,"",A9+1) -> 2 | B10: =IF(A10="","",B9-D9) -> 49262.686 | C10: =IF(A10="","",-PMT('Supuestos del modelo'!$B$53,'Supuestos del modelo'!$B$52,'Supuestos del modelo'!$B$50)) -> 941.01992 | D10: =IF(A10="","",C10-E10) -> 740.31764 | E10: =IF(A10="","",'Supuestos del modelo'!$B$53*B10) -> 200.70228
A11: =IF(A10>='Supuestos del modelo'!$B$52,"",A10+1) -> 3 | B11: =IF(A11="","",B10-D10) -> 48522.369 | C11: =IF(A11="","",-PMT('Supuestos del modelo'!$B$53,'Supuestos del modelo'!$B$52,'Supuestos del modelo'!$B$50)) -> 941.01992 | D11: =IF(A11="","",C11-E11) -> 743.33378 | E11: =IF(A11="","",'Supuestos del modelo'!$B$53*B11) -> 197.68614
A12: =IF(A11>='Supuestos del modelo'!$B$52,"",A11+1) -> 4 | B12: =IF(A12="","",B11-D11) -> 47779.035 | C12: =IF(A12="","",-PMT('Supuestos del modelo'!$B$53,'Supuestos del modelo'!$B$52,'Supuestos del modelo'!$B$50)) -> 941.01992 | D12: =IF(A12="","",C12-E12) -> 746.36222 | E12: =IF(A12="","",'Supuestos del modelo'!$B$53*B12) -> 194.6577
A13: =IF(A12>='Supuestos del modelo'!$B$52,"",A12+1) -> 5 | B13: =IF(A13="","",B12-D12) -> 47032.673 | C13: =IF(A13="","",-PMT('Supuestos del modelo'!$B$53,'Supuestos del modelo'!$B$52,'Supuestos del modelo'!$B$50)) -> 941.01992 | D13: =IF(A13="","",C13-E13) -> 749.40299 | E13: =IF(A13="","",'Supuestos del modelo'!$B$53*B13) -> 191.61693
A14: =IF(A13>='Supuestos del modelo'!$B$52,"",A13+1) -> 6 | B14: =IF(A14="","",B13-D13) -> 46283.27 | C14: =IF(A14="","",-PMT('Supuestos del modelo'!$B$53,'Supuestos del modelo'!$B$52,'Supuestos del modelo'!$B$50)) -> 941.01992 | D14: =IF(A14="","",C14-E14) -> 752.45615 | E14: =IF(A14="","",'Supuestos del modelo'!$B$53*B14) -> 188.56377
A15: =IF(A14>='Supuestos del modelo'!$B$52,"",A14+1) -> 7 | B15: =IF(A15="","",B14-D14) -> 45530.813 | C15: =IF(A15="","",-PMT('Supuestos del modelo'!$B$53,'Supuestos del modelo'!$B$52,'Supuestos del modelo'!$B$50)) -> 941.01992 | D15: =IF(A15="","",C15-E15) -> 755.52175 | E15: =IF(A15="","",'Supuestos del modelo'!$B$53*B15) -> 185.49817
A16: =IF(A15>='Supuestos del modelo'!$B$52,"",A15+1) -> 8 | B16: =IF(A16="","",B15-D15) -> 44775.292 | C16: =IF(A16="","",-PMT('Supuestos del modelo'!$B$53,'Supuestos del modelo'!$B$52,'Supuestos del modelo'!$B$50)) -> 941.01992 | D16: =IF(A16="","",C16-E16) -> 758.59984 | E16: =IF(A16="","",'Supuestos del modelo'!$B$53*B16) -> 182.42008
A17: =IF(A16>='Supuestos del modelo'!$B$52,"",A16+1) -> 9 | B17: =IF(A17="","",B16-D16) -> 44016.692 | C17: =IF(A17="","",-PMT('Supuestos del modelo'!$B$53,'Supuestos del modelo'!$B$52,'Supuestos del modelo'!$B$50)) -> 941.01992 | D17: =IF(A17="","",C17-E17) -> 761.69047 | E17: =IF(A17="","",'Supuestos del modelo'!$B$53*B17) -> 179.32945
A18: =IF(A17>='Supuestos del modelo'!$B$52,"",A17+1) -> 10 | B18: =IF(A18="","",B17-D17) -> 43255.001 | C18: =IF(A18="","",-PMT('Supuestos del modelo'!$B$53,'Supuestos del modelo'!$B$52,'Supuestos del modelo'!$B$50)) -> 941.01992 | D18: =IF(A18="","",C18-E18) -> 764.79369 | E18: =IF(A18="","",'Supuestos del modelo'!$B$53*B18) -> 176.22623
A19: =IF(A18>='Supuestos del modelo'!$B$52,"",A18+1) -> 11 | B19: =IF(A19="","",B18-D18) -> 42490.208 | C19: =IF(A19="","",-PMT('Supuestos del modelo'!$B$53,'Supuestos del modelo'!$B$52,'Supuestos del modelo'!$B$50)) -> 941.01992 | D19: =IF(A19="","",C19-E19) -> 767.90955 | E19: =IF(A19="","",'Supuestos del modelo'!$B$53*B19) -> 173.11037
A20: =IF(A19>='Supuestos del modelo'!$B$52,"",A19+1) -> 12 | B20: =IF(A20="","",B19-D19) -> 41722.298 | C20: =IF(A20="","",-PMT('Supuestos del modelo'!$B$53,'Supuestos del modelo'!$B$52,'Supuestos del modelo'!$B$50)) -> 941.01992 | D20: =IF(A20="","",C20-E20) -> 771.03811 | E20: =IF(A20="","",'Supuestos del modelo'!$B$53*B20) -> 169.98181
... A368: =IF(A367>='Supuestos del modelo'!$B$52,"",A367+1) | B368: =IF(A368="","",B367-D367) | C368: =IF(A368="","",-PMT('Supuestos del modelo'!$B$53,'Supuestos del modelo'!$B$52,'Supuestos del modelo'!$B$50)) | D368: =IF(A368="","",C368-E368) | E368: =IF(A368="","",'Supuestos del modelo'!$B$53*B368)

Sheet Notas y supuestos
A1: NOTAS Y SUPUESTOS
A3: Nombre de la empresa
A5: [Anota aquí los supuestos clave de tu plan financiero.] [Usa Alt+Enter para empezar una línea nueva.]
